BEGIN:VCALENDAR
VERSION:2.0
PRODID:-//Marion Technical College - ECPv6.15.20//NONSGML v1.0//EN
CALSCALE:GREGORIAN
METHOD:PUBLISH
X-ORIGINAL-URL:https://mariontc.edu
X-WR-CALDESC:Events for Marion Technical College
REFRESH-INTERVAL;VALUE=DURATION:PT1H
X-Robots-Tag:noindex
X-PUBLISHED-TTL:PT1H
BEGIN:VTIMEZONE
TZID:America/New_York
BEGIN:DAYLIGHT
TZOFFSETFROM:-0500
TZOFFSETTO:-0400
TZNAME:EDT
DTSTART:20240310T070000
END:DAYLIGHT
BEGIN:STANDARD
TZOFFSETFROM:-0400
TZOFFSETTO:-0500
TZNAME:EST
DTSTART:20241103T060000
END:STANDARD
BEGIN:DAYLIGHT
TZOFFSETFROM:-0500
TZOFFSETTO:-0400
TZNAME:EDT
DTSTART:20250309T070000
END:DAYLIGHT
BEGIN:STANDARD
TZOFFSETFROM:-0400
TZOFFSETTO:-0500
TZNAME:EST
DTSTART:20251102T060000
END:STANDARD
BEGIN:DAYLIGHT
TZOFFSETFROM:-0500
TZOFFSETTO:-0400
TZNAME:EDT
DTSTART:20260308T070000
END:DAYLIGHT
BEGIN:STANDARD
TZOFFSETFROM:-0400
TZOFFSETTO:-0500
TZNAME:EST
DTSTART:20261101T060000
END:STANDARD
BEGIN:DAYLIGHT
TZOFFSETFROM:-0500
TZOFFSETTO:-0400
TZNAME:EDT
DTSTART:20270314T070000
END:DAYLIGHT
BEGIN:STANDARD
TZOFFSETFROM:-0400
TZOFFSETTO:-0500
TZNAME:EST
DTSTART:20271107T060000
END:STANDARD
END:VTIMEZONE
BEGIN:VEVENT
DTSTART;VALUE=DATE:20251222
DTEND;VALUE=DATE:20260103
DTSTAMP:20260423T142952
CREATED:20250806T155656Z
LAST-MODIFIED:20250806T155656Z
UID:14169-1766361600-1767398399@mariontc.edu
SUMMARY:Winter Break
DESCRIPTION:
URL:https://mariontc.edu/event/winter-break/
ATTACH;FMTTYPE=image/jpeg:https://mariontc.edu/wp-content/uploads/2020/07/marion-technical-college-banner.jpg
END:VEVENT
BEGIN:VEVENT
DTSTART;VALUE=DATE:20260101
DTEND;VALUE=DATE:20260102
DTSTAMP:20260423T142952
CREATED:20251016T153544Z
LAST-MODIFIED:20251016T153544Z
UID:14796-1767225600-1767311999@mariontc.edu
SUMMARY:New Years Day
DESCRIPTION:
URL:https://mariontc.edu/event/new-years-day/
ATTACH;FMTTYPE=image/jpeg:https://mariontc.edu/wp-content/uploads/2020/07/marion-technical-college-banner.jpg
END:VEVENT
BEGIN:VEVENT
DTSTART;VALUE=DATE:20260105
DTEND;VALUE=DATE:20260106
DTSTAMP:20260423T142952
CREATED:20250806T172108Z
LAST-MODIFIED:20250806T172108Z
UID:14171-1767571200-1767657599@mariontc.edu
SUMMARY:Teacher Workday
DESCRIPTION:
URL:https://mariontc.edu/event/teacher-workday/
ATTACH;FMTTYPE=image/jpeg:https://mariontc.edu/wp-content/uploads/2020/07/marion-technical-college-banner.jpg
END:VEVENT
BEGIN:VEVENT
DTSTART;VALUE=DATE:20260107
DTEND;VALUE=DATE:20260108
DTSTAMP:20260423T142952
CREATED:20250806T172259Z
LAST-MODIFIED:20250806T172259Z
UID:14173-1767744000-1767830399@mariontc.edu
SUMMARY:Students Start
DESCRIPTION:
URL:https://mariontc.edu/event/students-start-2/
ATTACH;FMTTYPE=image/jpeg:https://mariontc.edu/wp-content/uploads/2020/07/marion-technical-college-banner.jpg
END:VEVENT
BEGIN:VEVENT
DTSTART;VALUE=DATE:20260112
DTEND;VALUE=DATE:20260113
DTSTAMP:20260423T142952
CREATED:20250806T173112Z
LAST-MODIFIED:20250806T173235Z
UID:14176-1768176000-1768262399@mariontc.edu
SUMMARY:Student Orientation
DESCRIPTION:Day Orientation 9:00 am in Brewster  – Evening Orientation 6:00 pm in Brewster
URL:https://mariontc.edu/event/student-orientation/
LOCATION:Marion Technical College Main Campus\, 1014 SW 7th Rd.\, Ocala\, 34471\, United States
ATTACH;FMTTYPE=image/jpeg:https://mariontc.edu/wp-content/uploads/2020/07/marion-technical-college-banner.jpg
END:VEVENT
BEGIN:VEVENT
DTSTART;VALUE=DATE:20260119
DTEND;VALUE=DATE:20260120
DTSTAMP:20260423T142952
CREATED:20250806T173720Z
LAST-MODIFIED:20250806T173720Z
UID:14179-1768780800-1768867199@mariontc.edu
SUMMARY:MLK Day
DESCRIPTION:
URL:https://mariontc.edu/event/mlk-day/
ATTACH;FMTTYPE=image/jpeg:https://mariontc.edu/wp-content/uploads/2020/07/marion-technical-college-banner.jpg
END:VEVENT
END:VCALENDAR